BEGIN:VCALENDAR
VERSION:2.0
PRODID:icalendar-ruby
CALSCALE:GREGORIAN
METHOD:PUBLISH
BEGIN:VEVENT
DTSTAMP:20260425T150012Z
UID:6-274935@canaanvilleumc.org
DTSTART:20260802T130000Z
DTEND:20260802T140000Z
CLASS:PUBLIC
CREATED:20260425T083305
DESCRIPTION:
LAST-MODIFIED:20260425T083305
LOCATION:
SUMMARY:Canaanville Church Service
URL;VALUE=URI:https://www.canaanvilleumc.org/events/canaanville-church-serv
 ice/2026-08-02
END:VEVENT
END:VCALENDAR
