BEGIN:VCALENDAR
VERSION:2.0
PRODID:icalendar-ruby
CALSCALE:GREGORIAN
METHOD:PUBLISH
BEGIN:VEVENT
DTSTAMP:20260425T163843Z
UID:6-275062@canaanvilleumc.org
DTSTART:20260809T130000Z
DTEND:20260809T140000Z
CLASS:PUBLIC
CREATED:20260425T111400
DESCRIPTION:
LAST-MODIFIED:20260425T111400
LOCATION:
SUMMARY:Canaanville Church Service
URL;VALUE=URI:https://www.canaanvilleumc.org/events/canaanville-church-serv
 ice/2026-08-09
END:VEVENT
END:VCALENDAR
