BEGIN:VCALENDAR
VERSION:2.0
PRODID:icalendar-ruby
CALSCALE:GREGORIAN
METHOD:PUBLISH
BEGIN:VEVENT
DTSTAMP:20260425T183413Z
UID:6-275189@canaanvilleumc.org
DTSTART:20260816T130000Z
DTEND:20260816T140000Z
CLASS:PUBLIC
CREATED:20260425T135349
DESCRIPTION:
LAST-MODIFIED:20260425T135349
LOCATION:
SUMMARY:Canaanville Church Service
URL;VALUE=URI:https://www.canaanvilleumc.org/events/canaanville-church-serv
 ice/2026-08-16
END:VEVENT
END:VCALENDAR
