BEGIN:VCALENDAR
VERSION:2.0
PRODID:icalendar-ruby
CALSCALE:GREGORIAN
METHOD:PUBLISH
BEGIN:VEVENT
DTSTAMP:20260425T213249Z
UID:6-275317@canaanvilleumc.org
DTSTART:20260830T130000Z
DTEND:20260830T140000Z
CLASS:PUBLIC
CREATED:20260425T163527
DESCRIPTION:
LAST-MODIFIED:20260425T163527
LOCATION:
SUMMARY:Canaanville Church Service
URL;VALUE=URI:https://www.canaanvilleumc.org/events/canaanville-church-serv
 ice/2026-08-30
END:VEVENT
END:VCALENDAR
