BEGIN:VCALENDAR
VERSION:2.0
PRODID:icalendar-ruby
CALSCALE:GREGORIAN
METHOD:PUBLISH
BEGIN:VEVENT
DTSTAMP:20260426T004909Z
UID:6-275445@canaanvilleumc.org
DTSTART:20260913T130000Z
DTEND:20260913T140000Z
CLASS:PUBLIC
CREATED:20260425T191830
DESCRIPTION:
LAST-MODIFIED:20260425T191830
LOCATION:
SUMMARY:Canaanville Church Service
URL;VALUE=URI:https://www.canaanvilleumc.org/events/canaanville-church-serv
 ice/2026-09-13
END:VEVENT
END:VCALENDAR
